BEGIN:VCALENDAR
VERSION:2.0
PRODID:-//hacksw/handcal//NONSGML v1.0//EN
BEGIN:VEVENT
SUMMARY:Entrainement
UID:936f23ae-011c-45b9-b80f-fc4deb441ee5
DTSTART:20260309T090000Z
DTEND:20260309T130000Z
LOCATION:Localisation   
CATEGORIES:Entrainement
STATUS:
DESCRIPTION:Entrainement pour tous ce soir en vue de preparer le
 prochain tournoi.
URL;VALUE=URI:https://amicale-laique-chambery-volley-ball.sportsregions.fr/evenements/2026/03/09/entrainement-2425303
END:VEVENT
END:VCALENDAR
