BEGIN:VCALENDAR
VERSION:2.0
PRODID:-//hacksw/handcal//NONSGML v1.0//EN
BEGIN:VEVENT
SUMMARY:Match
UID:058d93f9-ab71-4b1c-9916-fa35034802e1
DTSTART:20260309T090000Z
DTEND:20260309T130000Z
LOCATION:Localisation   
CATEGORIES:Sportif
STATUS:
DESCRIPTION:<p>Le match d'aujourd'hui s'est termine par une belle
 victoire trois sets a un de notre equipe.</p>
URL;VALUE=URI:https://amicale-laique-chambery-volley-ball.sportsregions.fr/evenements/2026/03/09/match-2425302
END:VEVENT
END:VCALENDAR
